BEGIN:VCALENDAR
VERSION:2.0
PRODID:-//Freiwillige Feuerwehr Polling - ECPv5.0.3.1//NONSGML v1.0//EN
CALSCALE:GREGORIAN
METHOD:PUBLISH
X-WR-CALNAME:Freiwillige Feuerwehr Polling
X-ORIGINAL-URL:http://ff-polling.at
X-WR-CALDESC:Veranstaltungen im Freiwillige Feuerwehr Polling
BEGIN:VTIMEZONE
TZID:Europe/Vienna
BEGIN:DAYLIGHT
TZOFFSETFROM:+0100
TZOFFSETTO:+0200
TZNAME:CEST
DTSTART:20240331T010000
END:DAYLIGHT
BEGIN:STANDARD
TZOFFSETFROM:+0200
TZOFFSETTO:+0100
TZNAME:CET
DTSTART:20241027T010000
END:STANDARD
END:VTIMEZONE
BEGIN:VEVENT
DTSTART;VALUE=DATE:20241012
DTEND;VALUE=DATE:20241013
DTSTAMP:20260424T111808
CREATED:20240219T151145Z
LAST-MODIFIED:20240219T151145Z
UID:1821-1728691200-1728777599@ff-polling.at
SUMMARY:Funklehrgang in Riedersbach Tag 1
DESCRIPTION:
URL:http://ff-polling.at/event/funklehrgang-in-riedersbach-tag-1/
END:VEVENT
END:VCALENDAR