BEGIN:VCALENDAR
VERSION:2.0
PRODID:-//Freiwillige Feuerwehr Polling - ECPv5.0.3.1//NONSGML v1.0//EN
CALSCALE:GREGORIAN
METHOD:PUBLISH
X-WR-CALNAME:Freiwillige Feuerwehr Polling
X-ORIGINAL-URL:http://ff-polling.at
X-WR-CALDESC:Veranstaltungen im Freiwillige Feuerwehr Polling
BEGIN:VTIMEZONE
TZID:Europe/Vienna
BEGIN:DAYLIGHT
TZOFFSETFROM:+0100
TZOFFSETTO:+0200
TZNAME:CEST
DTSTART:20240331T010000
END:DAYLIGHT
BEGIN:STANDARD
TZOFFSETFROM:+0200
TZOFFSETTO:+0100
TZNAME:CET
DTSTART:20241027T010000
END:STANDARD
END:VTIMEZONE
BEGIN:VEVENT
DTSTART;VALUE=DATE:20240830
DTEND;VALUE=DATE:20240831
DTSTAMP:20260424T123605
CREATED:20240219T151146Z
LAST-MODIFIED:20240219T151146Z
UID:1809-1724976000-1725062399@ff-polling.at
SUMMARY:Einstiegstest für den Truppmann Lehrgang
DESCRIPTION:
URL:http://ff-polling.at/event/einstiegstest-fuer-den-truppmann-lehrgang/
END:VEVENT
END:VCALENDAR